BEGIN:VCALENDAR
VERSION:2.0
PRODID:DPCALENDAR
CALSCALE:GREGORIAN
X-WR-TIMEZONE:UTC
BEGIN:VEVENT
DTSTART:20260425T170000Z
DTEND:20260425T190000Z
UID:9f315d11e368c84d9f25a98f828b7e87
SUMMARY:Sewing and Cricut Beginner Class
DTSTAMP:20260420T021238Z
DESCRIPTION:Sewing and Cricut Beginner Class April 25Sault Ste. Marie Tribe of Chippewa Indians Language and Culture Department is hosting a Sewing and Cricut Beginner Class in Unit 5. Take advantage of our beginner-friendly sewing class to learn the craft and produce your own feast/dish bag. April 25, 20261-3 p.m.Munising Tribal Center,622 W Superior Street in Munising. Limited slots! Reserve your spot today! To register contact Stacie Chambers at (906) 379-8061 or schambers1@saulttribe.net.
X-ALT-DESC;FMTTYPE=text/html:<b>Sewing and Cricut Beginner Class April 25</b><br>Sault Ste. Marie Tribe of Chippewa Indians Language and Culture Department is hosting a Sewing and Cricut Beginner Class in Unit 5. Take advantage of our beginner-friendly sewing class to learn the craft and produce your own feast/dish bag.<br> <br>April 25, 2026<br>1-3 p.m.<br>Munising Tribal Center,<br>622 W Superior Street in Munising.<br> <br>Limited slots! Reserve your spot today! To register contact Stacie Chambers at (906) 379-8061 or schambers1@saulttribe.net.
LOCATION:
X-ACCESS:1
X-MODIFIED:20260420T021238Z
X-HITS:0
X-URL:https://www.google.com/calendar/event?eid=NDZhbnNiNDZrbTAyY2ZwYjA2OWI0NGhwNGQgc2F1bHR0cmliZS5jb21fbHZmOWZ1ZGw4ZmQyNmdhcTh2M3MyMWI3OGdAZw
X-COLOR:
END:VEVENT
END:VCALENDAR