BEGIN:VCALENDAR
VERSION:2.0
PRODID:DPCALENDAR
CALSCALE:GREGORIAN
X-WR-TIMEZONE:UTC
BEGIN:VEVENT
DTSTART;VALUE=DATE:20260429
DTEND;VALUE=DATE:20260504
UID:64189b31f444d1f2d90f4cffa6b3cc18
SUMMARY:Spring 2026 Fasting Camp and Women’s Fast for Mother Earth
DTSTAMP:20260421T113451Z
DESCRIPTION:Spring 2026 Fasting Camp and Women’s Fast for Mother Earth Spring Fasting Camp is April 29 through May 3 this year at the Mary Murray Culture Camp on Sugar Island. The annual Women’s Fast for Mother Earth is also being held at the Mary Murray Culture Camp on May 2. Fasting begins at sunrise and ends at sunset, followed by a sweat lodge and feast.To register, or for more information, call the Traditional Medicine Program, (906) 632-0236.You must be 18 years or older to register. Anyone under 18 must be accompanied by an adult. Please remember moon time teachings.
X-ALT-DESC;FMTTYPE=text/html:<b>Spring 2026 Fasting Camp and Women’s Fast for Mother Earth</b> <br>Spring Fasting Camp is April 29 through May 3 this year at the Mary Murray Culture Camp on Sugar Island. The annual Women’s Fast for Mother Earth is also being held at the Mary Murray Culture Camp on May 2. Fasting begins at sunrise and ends at sunset, followed by a sweat lodge and feast.<br><br>To register, or for more information, call the Traditional Medicine Program, (906) 632-0236.You must be 18 years or older to register. Anyone under 18 must be accompanied by an adult. Please remember moon time teachings.
X-ACCESS:1
X-MODIFIED:20260421T113451Z
X-HITS:0
X-URL:https://www.google.com/calendar/event?eid=N3U0b2YxbHA1dmhmcnA5NTVzaW5hOGV0cDQgc2F1bHR0cmliZS5jb21fc3VxMWRxZmZjampsN2s2dTlkb2hocWNhamdAZw
X-COLOR:
END:VEVENT
END:VCALENDAR