BEGIN:VCALENDAR
VERSION:2.0
PRODID:DPCALENDAR
CALSCALE:GREGORIAN
X-WR-TIMEZONE:UTC
BEGIN:VEVENT
DTSTART;VALUE=DATE:20230209
DTEND;VALUE=DATE:20230210
UID:37895df2d138ed41bc7668f4917d77a2
SUMMARY:Lunch Break Sample and Skate at Big Bear Arena 
DTSTAMP:20260423T103845Z
DESCRIPTION:Lunch Break Sample and Skate at Big Bear Arena Seize the opportunity of Big Bear Arena's Lunch Break skate to start a new healthy habit in 2023! As a special treat, sample delicious food prepared by Sault Tribal Health's Nutrition Department on the dates below! Thursday, Jan. 19: Soup Slap ShotsThursday, Feb. 9: Heart Healthy Skating TacosThursday, March 16: Power Play Bowls12-2 p.m. - Skating12-1:30 p.m. - SamplingBig Bear Arena, 2 Ice Circle in Sault Ste. MarieSkating Admission is $3/personSkate Rentals available for $2/pairFood samplings are complimentary.Sault Tribe Members will receive FREE admission and skate rentals with tribal I.D. This program is brought to you in part by the Special Diabetes Program For Indians (SDPI) Grant
X-ALT-DESC;FMTTYPE=text/html:<b>Lunch Break Sample and Skate at Big Bear Arena </b><br>Seize the opportunity of Big Bear Arena's Lunch Break skate to start a new healthy habit in 2023! As a special treat, sample delicious food prepared by Sault Tribal Health's Nutrition Department on the dates below!<br> <br>Thursday, Jan. 19: Soup Slap Shots<br><b>Thursday, Feb. 9: Heart Healthy Skating Tacos</b><br>Thursday, March 16: Power Play Bowls<br>12-2 p.m. - Skating<br>12-1:30 p.m. - Sampling<br>Big Bear Arena, 2 Ice Circle in Sault Ste. Marie<br>Skating Admission is $3/person<br>Skate Rentals available for $2/pair<br>Food samplings are complimentary.<br>Sault Tribe Members will receive FREE admission and skate rentals with tribal I.D.<br> <br>This program is brought to you in part by the Special Diabetes Program For Indians (SDPI) Grant
LOCATION:
X-ACCESS:1
X-MODIFIED:20260423T103845Z
X-HITS:0
X-URL:https://www.google.com/calendar/event?eid=N2xxaHJnZDk0dTRpMzc0MDhzOXV0YWdvbDMgc2F1bHR0cmliZS5jb21fc3VxMWRxZmZjampsN2s2dTlkb2hocWNhamdAZw
X-COLOR:
END:VEVENT
END:VCALENDAR