BEGIN:VCALENDAR
VERSION:2.0
PRODID:DPCALENDAR
CALSCALE:GREGORIAN
X-WR-TIMEZONE:UTC
BEGIN:VEVENT
DTSTART;VALUE=DATE:20260501
DTEND;VALUE=DATE:20260502
UID:46a9cdac53ce46246eedc4abb7ba3239
SUMMARY:Win Awenen Nisitotung Newspaper Deadline
DTSTAMP:20260422T142448Z
DESCRIPTION:Win Awenen Nisitotung Newspaper DeadlineWin Awenen Nisitotung newspaper deadline, 5 p.m. For submissions or to place an advertisement with the newspaper please email jdale-burton@saulttribe.net or contact the Communications Department at 906-632-6398.
X-ALT-DESC;FMTTYPE=text/html:<b>Win Awenen Nisitotung Newspaper Deadline</b><br>Win Awenen Nisitotung newspaper deadline, 5 p.m. For submissions or to place an advertisement with the newspaper please email jdale-burton@saulttribe.net or contact the Communications Department at 906-632-6398.
LOCATION:
X-ACCESS:1
X-MODIFIED:20260422T142448Z
X-HITS:0
X-URL:https://www.google.com/calendar/event?eid=NnQ1dW03anN0ZGM5dW1mb2tpdGVzazVoaHIgY2FsZW5kYXJAc2F1bHR0cmliZS5jb20
X-COLOR:
END:VEVENT
END:VCALENDAR