BEGIN:VCALENDAR
VERSION:2.0
PRODID:DPCALENDAR
CALSCALE:GREGORIAN
X-WR-TIMEZONE:UTC
BEGIN:VEVENT
DTSTART;VALUE=DATE:20260502
DTEND;VALUE=DATE:20260503
UID:dea37fe0639f2be357539cfab2e22301
SUMMARY:Larry, Steve & Rudy, the Gatlin Brothers at Kewadin Sault
DTSTAMP:20260423T141155Z
DESCRIPTION:Larry, Steve & Rudy, the Gatlin Brothers at Kewadin SaultGrammy award-winners, Larry, Steve & Rudy, the Gatlin Brothers, are coming to Kewadin Casino Sault Ste Marie’s DreamMakers Theater Saturday, May 2, 2026, for an afternoon of music from their legendary career.In 1976, the Gatlin Brothers saw chart-topping success with their single “Broken Lady,” and the hits continued throughout the decade with their signature song “All the Gold in California” followed by “Houston (Means I’m One Day Closer To You).” The next decade brought number one songs with “I Don’t Wanna Cry,” “I Just Wish You Were Someone I Love,” “Statues Without Hearts,” “Love Is Just A Game,” and “Night Time Magic.”  Larry, Steve & Rudy, the Gatlin Brothers, are bringing all of their number one songs, and more, for one matinee show and over 69 years of incredible music.Tickets on sale now at tickets.kewadin.com or at the Box Office.Tickets are $35 | $40 | $45 USD*Doors: 2 p.m. / Show: 3 p.m.*Includes convenience and handling fees.
X-ALT-DESC;FMTTYPE=text/html:<b>Larry, Steve &amp; Rudy, the Gatlin Brothers at Kewadin Sault</b><br>Grammy award-winners, Larry, Steve &amp; Rudy, the Gatlin Brothers, are coming to Kewadin Casino Sault Ste Marie’s DreamMakers Theater Saturday, May 2, 2026, for an afternoon of music from their legendary career.<br><br>In 1976, the Gatlin Brothers saw chart-topping success with their single “Broken Lady,” and the hits continued throughout the decade with their signature song “All the Gold in California” followed by “Houston (Means I’m One Day Closer To You).” The next decade brought number one songs with “I Don’t Wanna Cry,” “I Just Wish You Were Someone I Love,” “Statues Without Hearts,” “Love Is Just A Game,” and “Night Time Magic.”  Larry, Steve &amp; Rudy, the Gatlin Brothers, are bringing all of their number one songs, and more, for one matinee show and over 69 years of incredible music.<br><br>Tickets on sale now at tickets.kewadin.com or at the Box Office.<br>Tickets are $35 | $40 | $45 USD*<br>Doors: 2 p.m. / Show: 3 p.m.<br>*Includes convenience and handling fees.
LOCATION:
X-ACCESS:1
X-MODIFIED:20260423T141155Z
X-HITS:0
X-URL:https://www.google.com/calendar/event?eid=MnBoY2VncTlidGZkcnIxOTlxNHJubzh1MzYgY2FsZW5kYXJAc2F1bHR0cmliZS5jb20
X-COLOR:
END:VEVENT
END:VCALENDAR