BEGIN:VCALENDAR
VERSION:2.0
PRODID:DPCALENDAR
CALSCALE:GREGORIAN
X-WR-TIMEZONE:UTC
BEGIN:VEVENT
DTSTART:20260425T170000Z
DTEND:20260425T190000Z
UID:4c793629e25701f9a34937c688af9c46
SUMMARY:Spring into Action Event
DTSTAMP:20260420T021105Z
DESCRIPTION:Spring into Action Event April 25Anishnaabek Community and Family Services (ACFS) will be hosting a “Spring into Action” event in recognition of Child Abuse Prevention Month. The event will take place on Saturday, April 25 from 1 p.m. to 3 p.m. at the Manistique Tribal Center.Community members are invited to attend and learn more about child abuse prevention while enjoying a family-friendly afternoon. The event will include community resource tables, food, activities for children, and prizes. It’s a chance for families to come together, connect with local resources, and support a shared commitment to keeping children safe.RSVP is encouraged but not required. For more information, call (906) 341-6993.
X-ALT-DESC;FMTTYPE=text/html:<b>Spring into Action Event April 25</b><br>Anishnaabek Community and Family Services (ACFS) will be hosting a “Spring into Action” event in recognition of Child Abuse Prevention Month. The event will take place on Saturday, April 25 from 1 p.m. to 3 p.m. at the Manistique Tribal Center.<br><br>Community members are invited to attend and learn more about child abuse prevention while enjoying a family-friendly afternoon. The event will include community resource tables, food, activities for children, and prizes. It’s a chance for families to come together, connect with local resources, and support a shared commitment to keeping children safe.<br><br>RSVP is encouraged but not required. For more information, call (906) 341-6993.
LOCATION:
X-ACCESS:1
X-MODIFIED:20260420T021105Z
X-HITS:0
X-URL:https://www.google.com/calendar/event?eid=MDE1NTdzMjllbWFmbm1tM2ViMjQ1MWQzcmwgY2FsZW5kYXJAc2F1bHR0cmliZS5jb20
X-COLOR:
END:VEVENT
END:VCALENDAR